BEGIN:VCALENDAR
VERSION:2.0
PRODID:-//Plone.org//NONSGML plone.app.event//EN
X-WR-TIMEZONE:Europe/Rome
BEGIN:VEVENT
SUMMARY:Il Sindaco ai Quartieri Lubiana-San Lazzaro
DTSTART;TZID=Europe/Rome:20230525T183000
DTEND;TZID=Europe/Rome:20230525T200000
DTSTAMP:20260420T053524Z
UID:092bcbd6e5dc47c2993e782880f7f21b@www.comune.parma.it
CATEGORIES:cento,maggio,Home page
CREATED:20230516T064157Z
DESCRIPTION:100 - La Giunta nei quartieri.
LAST-MODIFIED:20250415T140202Z
URL:https://www.comune.parma.it/api/it/vivere-parma/eventi/il-sindaco-ai-q
 uartieri-lubiana-san-lazzaro/2023-05-25
END:VEVENT
BEGIN:VTIMEZONE
TZID:Europe/Rome
X-LIC-LOCATION:Europe/Rome
BEGIN:DAYLIGHT
DTSTART:20230326T030000
TZNAME:CEST
TZOFFSETFROM:+0100
TZOFFSETTO:+0200
END:DAYLIGHT
END:VTIMEZONE
END:VCALENDAR
