BEGIN:VCALENDAR
VERSION:2.0
PRODID:-//Plone.org//NONSGML plone.app.event//EN
X-WR-TIMEZONE:Europe/Rome
BEGIN:VEVENT
SUMMARY:Il Sindaco al quartiere Vigatto
DTSTART;TZID=Europe/Rome:20240123T183000
DTEND;TZID=Europe/Rome:20240123T193000
DTSTAMP:20260419T172953Z
UID:b06ec73cafe348d28385cb4476993e61@www.comune.parma.it
CATEGORIES:Home page,gennaio 2024,cento
CREATED:20240115T172053Z
DESCRIPTION:100 - La Giunta nei quartieri
LAST-MODIFIED:20250311T155851Z
URL:https://www.comune.parma.it/api/it/vivere-parma/eventi/il-sindaco-al-q
 uartiere-vigatto/2024-01-23
END:VEVENT
BEGIN:VTIMEZONE
TZID:Europe/Rome
X-LIC-LOCATION:Europe/Rome
BEGIN:STANDARD
DTSTART:20231029T020000
TZNAME:CET
TZOFFSETFROM:+0200
TZOFFSETTO:+0100
END:STANDARD
END:VTIMEZONE
END:VCALENDAR
