BEGIN:VCALENDAR
VERSION:2.0
PRODID:-//Plone.org//NONSGML plone.app.event//EN
X-WR-TIMEZONE:Europe/Rome
BEGIN:VEVENT
SUMMARY:Il Vicesindaco ai Quartieri Cortile San Martino-San Leonardo
DTSTART;TZID=Europe/Rome:20230525T183000
DTEND;TZID=Europe/Rome:20230525T200000
DTSTAMP:20260425T125613Z
UID:318447d69ba944d6ad04019bd169f1c8@www.comune.parma.it
CATEGORIES:cento,maggio,Home page
CREATED:20230516T065341Z
DESCRIPTION:100 - La Giunta nei quartieri.
LAST-MODIFIED:20230727T094954Z
URL:https://www.comune.parma.it/api/it/vivere-parma/eventi/il-vicesindaco-
 ai-quartieri-cortile-san-martino-san-leonardo
END:VEVENT
BEGIN:VTIMEZONE
TZID:Europe/Rome
X-LIC-LOCATION:Europe/Rome
BEGIN:DAYLIGHT
DTSTART:20230326T030000
TZNAME:CEST
TZOFFSETFROM:+0100
TZOFFSETTO:+0200
END:DAYLIGHT
END:VTIMEZONE
END:VCALENDAR
