BEGIN:VCALENDAR
VERSION:2.0
PRODID:-//Plone.org//NONSGML plone.app.event//EN
X-WR-TIMEZONE:Europe/Rome
BEGIN:VEVENT
SUMMARY:Impronte. Noi e le piante
DTSTART;TZID=Europe/Rome:20240221T100000
DTEND;TZID=Europe/Rome:20240221T190000
DTSTAMP:20260419T182124Z
UID:a4d4e7e164664c8184027762739c8919@www.comune.parma.it
CREATED:20240110T113127Z
DESCRIPTION:Oltre 200 immagini per raccontare l’evoluzione del rapporto 
 tra botanica e visual culture
LAST-MODIFIED:20240315T124054Z
URL:https://www.comune.parma.it/api/it/vivere-parma/eventi/impronte-noi-e-
 le-piante/2024-02-21
END:VEVENT
BEGIN:VTIMEZONE
TZID:Europe/Rome
X-LIC-LOCATION:Europe/Rome
BEGIN:STANDARD
DTSTART:20231029T020000
TZNAME:CET
TZOFFSETFROM:+0200
TZOFFSETTO:+0100
END:STANDARD
END:VTIMEZONE
END:VCALENDAR
