BEGIN:VCALENDAR
VERSION:2.0
PRODID:-//Plone.org//NONSGML plone.app.event//EN
X-WR-TIMEZONE:Europe/Rome
BEGIN:VEVENT
SUMMARY:Introduzione a Internet e Posta elettronica (base)
DTSTART;TZID=Europe/Rome:20250319T100000
DTEND;TZID=Europe/Rome:20250319T120000
DTSTAMP:20260420T154526Z
UID:cbb51306cf1543379c14d711dd5871e0@www.comune.parma.it
CATEGORIES:Eventi - Facilitazione digitale
CREATED:20241209T144936Z
DESCRIPTION:Ore 10:00: Il corso di formazione fornisce conoscenze relative
  alle tematiche internet e posta elettronica
LAST-MODIFIED:20241209T145018Z
URL:https://www.comune.parma.it/api/it/vivere-parma/eventi/introduzione-a-
 internet-e-posta-elettronica-base-2
END:VEVENT
BEGIN:VTIMEZONE
TZID:Europe/Rome
X-LIC-LOCATION:Europe/Rome
BEGIN:STANDARD
DTSTART:20241027T020000
TZNAME:CET
TZOFFSETFROM:+0200
TZOFFSETTO:+0100
END:STANDARD
END:VTIMEZONE
END:VCALENDAR
