BEGIN:VCALENDAR
VERSION:2.0
PRODID:-//Plone.org//NONSGML plone.app.event//EN
X-WR-TIMEZONE:Europe/Rome
BEGIN:VEVENT
SUMMARY:Introduzione ad Internet + Posta elettronica (avanzato)
DTSTART;TZID=Europe/Rome:20241203T163000
DTEND;TZID=Europe/Rome:20241203T183000
DTSTAMP:20260419T204214Z
UID:cf9a457ea7b241278572b3089453bba9@www.comune.parma.it
CATEGORIES:Eventi - Facilitazione digitale
CREATED:20241127T143719Z
DESCRIPTION:Il corso fornisce conoscenze relative alle tematiche internet 
 e posta elettronica
LAST-MODIFIED:20241209T140838Z
URL:https://www.comune.parma.it/api/it/vivere-parma/eventi/introduzione-ad
 -internet-posta-elettronica-avanzato
END:VEVENT
BEGIN:VTIMEZONE
TZID:Europe/Rome
X-LIC-LOCATION:Europe/Rome
BEGIN:STANDARD
DTSTART:20241027T020000
TZNAME:CET
TZOFFSETFROM:+0200
TZOFFSETTO:+0100
END:STANDARD
END:VTIMEZONE
END:VCALENDAR
