BEGIN:VCALENDAR
VERSION:2.0
PRODID:-//Plone.org//NONSGML plone.app.event//EN
X-WR-TIMEZONE:Europe/Rome
BEGIN:VEVENT
SUMMARY:La Giunta nei Quartieri - Golese
DTSTART;TZID=Europe/Rome:20251014T180000
DTEND;TZID=Europe/Rome:20251014T203000
DTSTAMP:20260420T064637Z
UID:1cca21a14d7c40e995658ece077d6c3a@www.comune.parma.it
CATEGORIES:Home page,clone-giunta-nei-quartieri
CREATED:20251010T091304Z
DESCRIPTION:È in programma martedì 14 ottobre\, alle ore 18\, nella scuo
 la d'infanzia Primavera di strada Chiesa di Fognano n.2\, l’appuntamento
  de La Giunta nei Quartieri dedicato al Quartiere Golese.
LAST-MODIFIED:20251010T100152Z
URL:https://www.comune.parma.it/api/it/vivere-parma/eventi/la-giunta-nei-q
 uartieri-golese
END:VEVENT
BEGIN:VTIMEZONE
TZID:Europe/Rome
X-LIC-LOCATION:Europe/Rome
BEGIN:DAYLIGHT
DTSTART:20250330T030000
TZNAME:CEST
TZOFFSETFROM:+0100
TZOFFSETTO:+0200
END:DAYLIGHT
END:VTIMEZONE
END:VCALENDAR
