BEGIN:VCALENDAR
VERSION:2.0
PRODID:-//Plone.org//NONSGML plone.app.event//EN
X-WR-TIMEZONE:Europe/Rome
BEGIN:VEVENT
SUMMARY:La Giunta nei Quartieri - Montanara
DTSTART;TZID=Europe/Rome:20250415T180000
DTEND;TZID=Europe/Rome:20250415T210000
DTSTAMP:20260419T215852Z
UID:e79f47b43d4b4b3fac6359f5d4b91356@www.comune.parma.it
CATEGORIES:Home page,cento-2025
CREATED:20250414T073355Z
DESCRIPTION:Quartiere Montanara
LAST-MODIFIED:20250723T120641Z
URL:https://www.comune.parma.it/api/it/vivere-parma/eventi/la-giunta-nei-q
 uartieri-montanara/2025-04-15
END:VEVENT
BEGIN:VTIMEZONE
TZID:Europe/Rome
X-LIC-LOCATION:Europe/Rome
BEGIN:DAYLIGHT
DTSTART:20250330T030000
TZNAME:CEST
TZOFFSETFROM:+0100
TZOFFSETTO:+0200
END:DAYLIGHT
END:VTIMEZONE
END:VCALENDAR
