BEGIN:VCALENDAR
VERSION:2.0
PRODID:-//Plone.org//NONSGML plone.app.event//EN
X-WR-TIMEZONE:Europe/Rome
BEGIN:VEVENT
SUMMARY:La Giunta nei Quartieri - Oltretorrente
DTSTART;TZID=Europe/Rome:20250325T180000
DTEND;TZID=Europe/Rome:20250325T200000
DTSTAMP:20260421T115036Z
UID:4ec725cb7eb84f4aa25b47ddbfbb6098@www.comune.parma.it
CATEGORIES:Home page,cento-2025
CREATED:20250319T164516Z
DESCRIPTION:Un ciclo di incontri mensili in cui il Sindaco di Parma\, Mich
 ele Guerra\, insieme alla Giunta\, visiterà i diversi quartieri della cit
 tà per raccontare a cittadine e cittadini le azioni intraprese e i proget
 ti realizzati sul territorio.
LAST-MODIFIED:20250326T115259Z
URL:https://www.comune.parma.it/api/it/vivere-parma/eventi/la-giunta-nei-q
 uartieri-oltretorrente
END:VEVENT
BEGIN:VTIMEZONE
TZID:Europe/Rome
X-LIC-LOCATION:Europe/Rome
BEGIN:STANDARD
DTSTART:20241027T020000
TZNAME:CET
TZOFFSETFROM:+0200
TZOFFSETTO:+0100
END:STANDARD
END:VTIMEZONE
END:VCALENDAR
