BEGIN:VCALENDAR
VERSION:2.0
PRODID:-//Plone.org//NONSGML plone.app.event//EN
X-WR-TIMEZONE:Europe/Rome
BEGIN:VEVENT
SUMMARY:La Giunta nei Quartieri - Vigatto
DTSTART;TZID=Europe/Rome:20250529T180000
DTEND;TZID=Europe/Rome:20250529T203000
DTSTAMP:20260421T121137Z
UID:57536a48624c40f59113001464a7c593@www.comune.parma.it
CATEGORIES:Home page,clone-giunta-nei-quartieri
CREATED:20250520T104026Z
DESCRIPTION:È in programma giovedì 29 maggio\, alle ore 18\, al Circolo 
 Famija Alberese in via delle Gaggie n. 4/a\, il terzo appuntamento de “L
 a Giunta nei Quartieri” dedicato al Quartiere Vigatto.
LAST-MODIFIED:20251010T100244Z
URL:https://www.comune.parma.it/api/it/vivere-parma/eventi/la-giunta-nei-q
 uartieri-vigatto/2025-05-29
END:VEVENT
BEGIN:VTIMEZONE
TZID:Europe/Rome
X-LIC-LOCATION:Europe/Rome
BEGIN:DAYLIGHT
DTSTART:20250330T030000
TZNAME:CEST
TZOFFSETFROM:+0100
TZOFFSETTO:+0200
END:DAYLIGHT
END:VTIMEZONE
END:VCALENDAR
