BEGIN:VCALENDAR
VERSION:2.0
PRODID:-//Plone.org//NONSGML plone.app.event//EN
X-WR-TIMEZONE:Europe/Rome
BEGIN:VEVENT
SUMMARY:L'assessora Aimi ai Quartieri Cortile San Martino - San Leonardo
DTSTART;TZID=Europe/Rome:20240123T183000
DTEND;TZID=Europe/Rome:20240123T193000
DTSTAMP:20260421T212030Z
UID:25509cec49af4104a163f60f54c220a8@www.comune.parma.it
CATEGORIES:Home page,gennaio 2024,cento
CREATED:20240115T172708Z
DESCRIPTION:100 - La Giunta nei quartieri
LAST-MODIFIED:20250311T155922Z
URL:https://www.comune.parma.it/api/it/vivere-parma/eventi/lassessora-aimi
 -ai-quartieri-cortile-san-martino-san-leonardo/2024-01-23
END:VEVENT
BEGIN:VTIMEZONE
TZID:Europe/Rome
X-LIC-LOCATION:Europe/Rome
BEGIN:STANDARD
DTSTART:20231029T020000
TZNAME:CET
TZOFFSETFROM:+0200
TZOFFSETTO:+0100
END:STANDARD
END:VTIMEZONE
END:VCALENDAR
