BEGIN:VCALENDAR
VERSION:2.0
PRODID:-//Plone.org//NONSGML plone.app.event//EN
X-WR-TIMEZONE:Europe/Rome
BEGIN:VEVENT
SUMMARY:L’Assessora Aimi ai Quartieri Molinetto-San Pancrazio
DTSTART;TZID=Europe/Rome:20230525T183000
DTEND;TZID=Europe/Rome:20230525T200000
DTSTAMP:20260421T134903Z
UID:c9bc95ef88ea4a07818b9b85c713668a@www.comune.parma.it
CATEGORIES:Home page,cento,maggio
CREATED:20230516T065635Z
DESCRIPTION:100 - La Giunta nei quartieri.
LAST-MODIFIED:20230727T095024Z
URL:https://www.comune.parma.it/api/it/vivere-parma/eventi/lassessora-aimi
 -ai-quartieri-molinetto-san-pancrazio
END:VEVENT
BEGIN:VTIMEZONE
TZID:Europe/Rome
X-LIC-LOCATION:Europe/Rome
BEGIN:DAYLIGHT
DTSTART:20230326T030000
TZNAME:CEST
TZOFFSETFROM:+0100
TZOFFSETTO:+0200
END:DAYLIGHT
END:VTIMEZONE
END:VCALENDAR
