BEGIN:VCALENDAR
VERSION:2.0
PRODID:-//Plone.org//NONSGML plone.app.event//EN
X-WR-TIMEZONE:Europe/Rome
BEGIN:VEVENT
SUMMARY:L'Assessora Bonetti ai Quartieri Cortile San Martino-San Leonardo
DTSTART;TZID=Europe/Rome:20230216T183000
DTEND;TZID=Europe/Rome:20230216T200000
DTSTAMP:20260421T121858Z
UID:52b17fcca4d44a5f90d44e219ed4178c@www.comune.parma.it
CATEGORIES:cento,Home page,febbraio
CREATED:20230213T095422Z
DESCRIPTION:100 - La giunta nei quartieri.
LAST-MODIFIED:20230718T084845Z
URL:https://www.comune.parma.it/api/it/vivere-parma/eventi/lassessora-bone
 tti-ai-quartieri-cortile-san-martino2014san-leonardo
END:VEVENT
BEGIN:VTIMEZONE
TZID:Europe/Rome
X-LIC-LOCATION:Europe/Rome
BEGIN:STANDARD
DTSTART:20221030T020000
TZNAME:CET
TZOFFSETFROM:+0200
TZOFFSETTO:+0100
END:STANDARD
END:VTIMEZONE
END:VCALENDAR
