BEGIN:VCALENDAR
VERSION:2.0
PRODID:-//Plone.org//NONSGML plone.app.event//EN
X-WR-TIMEZONE:Europe/Rome
BEGIN:VEVENT
SUMMARY:L'Assessora Bonetti al Quartiere Parma Centro
DTSTART;TZID=Europe/Rome:20231123T183000
DTEND;TZID=Europe/Rome:20231123T200000
DTSTAMP:20260422T014453Z
UID:bf0dfb71fd14440d929f8945bd6e0ce4@www.comune.parma.it
CATEGORIES:novembre,Home page
CREATED:20231115T120307Z
DESCRIPTION:100 - La Giunta nei quartieri
LAST-MODIFIED:20231115T120315Z
URL:https://www.comune.parma.it/api/it/vivere-parma/eventi/lassessora-bone
 tti-al-quartiere-parma-centro
END:VEVENT
BEGIN:VTIMEZONE
TZID:Europe/Rome
X-LIC-LOCATION:Europe/Rome
BEGIN:STANDARD
DTSTART:20231029T020000
TZNAME:CET
TZOFFSETFROM:+0200
TZOFFSETTO:+0100
END:STANDARD
END:VTIMEZONE
END:VCALENDAR
