BEGIN:VCALENDAR
VERSION:2.0
PRODID:-//Plone.org//NONSGML plone.app.event//EN
X-WR-TIMEZONE:Europe/Rome
BEGIN:VEVENT
SUMMARY:L’Assessora Jacopozzi ai Quartieri Cortile San Martino-San Leona
 rdo
DTSTART;TZID=Europe/Rome:20230622T183000
DTEND;TZID=Europe/Rome:20230622T200000
DTSTAMP:20260420T212619Z
UID:7600fcab98234ba68333993037bf87d3@www.comune.parma.it
CATEGORIES:cento,giugno
CREATED:20230614T090910Z
DESCRIPTION:100 - La Giunta nei quartieri.
LAST-MODIFIED:20230727T100641Z
URL:https://www.comune.parma.it/api/it/vivere-parma/eventi/lassessora-jaco
 pozzi-ai-quartieri-cortile-san-martino-san-leonardo
END:VEVENT
BEGIN:VTIMEZONE
TZID:Europe/Rome
X-LIC-LOCATION:Europe/Rome
BEGIN:DAYLIGHT
DTSTART:20230326T030000
TZNAME:CEST
TZOFFSETFROM:+0100
TZOFFSETTO:+0200
END:DAYLIGHT
END:VTIMEZONE
END:VCALENDAR
