BEGIN:VCALENDAR
VERSION:2.0
PRODID:-//Plone.org//NONSGML plone.app.event//EN
X-WR-TIMEZONE:Europe/Rome
BEGIN:VEVENT
SUMMARY:L'Assessora Jacopozzi ai Quartieri Molinetto - San Pancrazio
DTSTART;TZID=Europe/Rome:20231026T183000
DTEND;TZID=Europe/Rome:20231026T193000
DTSTAMP:20260420T192358Z
UID:6f8857ec5c724625a8aa5e5a679e99b3@www.comune.parma.it
CATEGORIES:Home page,cento,ottobre
CREATED:20231012T080916Z
DESCRIPTION:100 - La Giunta nei quartieri
LAST-MODIFIED:20231012T080925Z
URL:https://www.comune.parma.it/api/it/vivere-parma/eventi/lassessora-jaco
 pozzi-ai-quartieri-molinetto-san-pancrazio/2023-10-26
END:VEVENT
BEGIN:VTIMEZONE
TZID:Europe/Rome
X-LIC-LOCATION:Europe/Rome
BEGIN:DAYLIGHT
DTSTART:20230326T030000
TZNAME:CEST
TZOFFSETFROM:+0100
TZOFFSETTO:+0200
END:DAYLIGHT
END:VTIMEZONE
END:VCALENDAR
