BEGIN:VCALENDAR
VERSION:2.0
PRODID:-//Plone.org//NONSGML plone.app.event//EN
X-WR-TIMEZONE:Europe/Rome
BEGIN:VEVENT
SUMMARY:L’Assessora Jacopozzi al Quartiere Cittadella
DTSTART;TZID=Europe/Rome:20230525T183000
DTEND;TZID=Europe/Rome:20230525T200000
DTSTAMP:20260420T191039Z
UID:06a06081fc534ab7976b5b974db4b4b4@www.comune.parma.it
CATEGORIES:Home page,cento,maggio
CREATED:20230516T071351Z
DESCRIPTION:100 - La Giunta nei quartieri.
LAST-MODIFIED:20230727T100135Z
URL:https://www.comune.parma.it/api/it/vivere-parma/eventi/lassessora-jaco
 pozzi-al-quartiere-cittadella
END:VEVENT
BEGIN:VTIMEZONE
TZID:Europe/Rome
X-LIC-LOCATION:Europe/Rome
BEGIN:DAYLIGHT
DTSTART:20230326T030000
TZNAME:CEST
TZOFFSETFROM:+0100
TZOFFSETTO:+0200
END:DAYLIGHT
END:VTIMEZONE
END:VCALENDAR
