BEGIN:VCALENDAR
VERSION:2.0
PRODID:-//Plone.org//NONSGML plone.app.event//EN
X-WR-TIMEZONE:Europe/Rome
BEGIN:VEVENT
SUMMARY:L'Assessora Vernizzi ai quartieri Molinetto - San Pancrazio
DTSTART;TZID=Europe/Rome:20230712T183000
DTEND;TZID=Europe/Rome:20230712T200000
DTSTAMP:20260421T084513Z
UID:87a9793cf1cd4887a8ee91aa14720bec@www.comune.parma.it
CATEGORIES:Home page,cento,luglio
CREATED:20230628T132900Z
DESCRIPTION:100 - La Giunta nei quartieri
LAST-MODIFIED:20230718T084946Z
URL:https://www.comune.parma.it/api/it/vivere-parma/eventi/lassessora-vern
 izzi-ai-quartieri-molinetto-san-pancrazio
END:VEVENT
BEGIN:VTIMEZONE
TZID:Europe/Rome
X-LIC-LOCATION:Europe/Rome
BEGIN:DAYLIGHT
DTSTART:20230326T030000
TZNAME:CEST
TZOFFSETFROM:+0100
TZOFFSETTO:+0200
END:DAYLIGHT
END:VTIMEZONE
END:VCALENDAR
