BEGIN:VCALENDAR
VERSION:2.0
PRODID:-//Plone.org//NONSGML plone.app.event//EN
X-WR-TIMEZONE:Europe/Rome
BEGIN:VEVENT
SUMMARY:L’Assessora Vernizzi al Quartiere Golese
DTSTART;TZID=Europe/Rome:20230525T183000
DTEND;TZID=Europe/Rome:20230525T200000
DTSTAMP:20260421T140552Z
UID:746727d9e93e419f97889a7e82231baa@www.comune.parma.it
CATEGORIES:Home page,cento,maggio
CREATED:20230516T071607Z
DESCRIPTION:100 - La Giunta nei quartieri.
LAST-MODIFIED:20230727T095541Z
URL:https://www.comune.parma.it/api/it/vivere-parma/eventi/lassessora-vern
 izzi-al-quartiere-golese/2023-05-25
END:VEVENT
BEGIN:VTIMEZONE
TZID:Europe/Rome
X-LIC-LOCATION:Europe/Rome
BEGIN:DAYLIGHT
DTSTART:20230326T030000
TZNAME:CEST
TZOFFSETFROM:+0100
TZOFFSETTO:+0200
END:DAYLIGHT
END:VTIMEZONE
END:VCALENDAR
