BEGIN:VCALENDAR
VERSION:2.0
PRODID:-//Plone.org//NONSGML plone.app.event//EN
X-WR-TIMEZONE:Europe/Rome
BEGIN:VEVENT
SUMMARY:L’Assessore Borghi al Quartiere Oltretorrente
DTSTART;TZID=Europe/Rome:20230525T183000
DTEND;TZID=Europe/Rome:20230525T200000
DTSTAMP:20260419T151258Z
UID:3eade0fbd01841e4bc14782ea56424d0@www.comune.parma.it
CATEGORIES:Home page,maggio,cento
CREATED:20230516T070255Z
DESCRIPTION:100 - La Giunta nei quartieri.
LAST-MODIFIED:20230727T095117Z
URL:https://www.comune.parma.it/api/it/vivere-parma/eventi/lassessore-borg
 hi-al-quartiere-oltretorrente/2023-05-25
END:VEVENT
BEGIN:VTIMEZONE
TZID:Europe/Rome
X-LIC-LOCATION:Europe/Rome
BEGIN:DAYLIGHT
DTSTART:20230326T030000
TZNAME:CEST
TZOFFSETFROM:+0100
TZOFFSETTO:+0200
END:DAYLIGHT
END:VTIMEZONE
END:VCALENDAR
