BEGIN:VCALENDAR
VERSION:2.0
PRODID:-//Plone.org//NONSGML plone.app.event//EN
X-WR-TIMEZONE:Europe/Rome
BEGIN:VEVENT
SUMMARY:L’Assessore Borghi al Quartiere Pablo
DTSTART;TZID=Europe/Rome:20230622T183000
DTEND;TZID=Europe/Rome:20230622T200000
DTSTAMP:20260420T193942Z
UID:85f46015e8fc4c90af133a79d147de53@www.comune.parma.it
CATEGORIES:giugno,cento
CREATED:20230614T090214Z
DESCRIPTION:100 - La Giunta nei quartieri.
LAST-MODIFIED:20230727T100522Z
URL:https://www.comune.parma.it/api/it/vivere-parma/eventi/lassessore-borg
 hi-al-quartiere-pablo
END:VEVENT
BEGIN:VTIMEZONE
TZID:Europe/Rome
X-LIC-LOCATION:Europe/Rome
BEGIN:DAYLIGHT
DTSTART:20230326T030000
TZNAME:CEST
TZOFFSETFROM:+0100
TZOFFSETTO:+0200
END:DAYLIGHT
END:VTIMEZONE
END:VCALENDAR
