BEGIN:VCALENDAR
VERSION:2.0
PRODID:-//Plone.org//NONSGML plone.app.event//EN
X-WR-TIMEZONE:Europe/Rome
BEGIN:VEVENT
SUMMARY:L’Assessore Bosi al Quartiere Parma Centro
DTSTART;TZID=Europe/Rome:20230613T183000
DTEND;TZID=Europe/Rome:20230613T200000
DTSTAMP:20260421T140256Z
UID:c86a9d95a30349a1a4e379e7d42adfd9@www.comune.parma.it
CATEGORIES:giugno,cento
CREATED:20230614T084718Z
DESCRIPTION:100 - La Giunta nei quartieri.
LAST-MODIFIED:20230727T100319Z
URL:https://www.comune.parma.it/api/it/vivere-parma/eventi/lassessore-bosi
 -al-quartiere-parma-centro/2023-06-13
END:VEVENT
BEGIN:VTIMEZONE
TZID:Europe/Rome
X-LIC-LOCATION:Europe/Rome
BEGIN:DAYLIGHT
DTSTART:20230326T030000
TZNAME:CEST
TZOFFSETFROM:+0100
TZOFFSETTO:+0200
END:DAYLIGHT
END:VTIMEZONE
END:VCALENDAR
