BEGIN:VCALENDAR
VERSION:2.0
PRODID:-//Plone.org//NONSGML plone.app.event//EN
X-WR-TIMEZONE:Europe/Rome
BEGIN:VEVENT
SUMMARY:L'Assessore Brianti al Quartiere Golese
DTSTART;TZID=Europe/Rome:20231019T183000
DTEND;TZID=Europe/Rome:20231019T193000
DTSTAMP:20260419T172633Z
UID:78a8e4b7b0814c32acd2c67a7c3fc168@www.comune.parma.it
CATEGORIES:Home page,cento,ottobre
CREATED:20231012T075101Z
DESCRIPTION:100 - La Giunta nei quartieri
LAST-MODIFIED:20231012T075148Z
URL:https://www.comune.parma.it/api/it/vivere-parma/eventi/lassessore-bria
 nti-al-quartiere-golese/2023-10-19
END:VEVENT
BEGIN:VTIMEZONE
TZID:Europe/Rome
X-LIC-LOCATION:Europe/Rome
BEGIN:DAYLIGHT
DTSTART:20230326T030000
TZNAME:CEST
TZOFFSETFROM:+0100
TZOFFSETTO:+0200
END:DAYLIGHT
END:VTIMEZONE
END:VCALENDAR
