BEGIN:VCALENDAR
VERSION:2.0
PRODID:-//Plone.org//NONSGML plone.app.event//EN
X-WR-TIMEZONE:Europe/Rome
BEGIN:VEVENT
SUMMARY:L'Assessore De Vanna ai Quartieri Molinetto—San Pancrazio
DTSTART;TZID=Europe/Rome:20231123T183000
DTEND;TZID=Europe/Rome:20231123T200000
DTSTAMP:20260420T070444Z
UID:3ae0dfa46ae046c1990922dc517f44ab@www.comune.parma.it
CATEGORIES:Home page,novembre
CREATED:20231115T123424Z
DESCRIPTION:100 - La Giunta nei quartieri
LAST-MODIFIED:20231115T123433Z
URL:https://www.comune.parma.it/api/it/vivere-parma/eventi/lassessore-de-v
 anna-ai-quartieri-molinetto-san-pancrazio
END:VEVENT
BEGIN:VTIMEZONE
TZID:Europe/Rome
X-LIC-LOCATION:Europe/Rome
BEGIN:STANDARD
DTSTART:20231029T020000
TZNAME:CET
TZOFFSETFROM:+0200
TZOFFSETTO:+0100
END:STANDARD
END:VTIMEZONE
END:VCALENDAR
