BEGIN:VCALENDAR
VERSION:2.0
PRODID:-//Plone.org//NONSGML plone.app.event//EN
X-WR-TIMEZONE:Europe/Rome
BEGIN:VEVENT
SUMMARY:L'Assessore Lavagetto ai Quartieri Molinetto - San Pancrazio
DTSTART;TZID=Europe/Rome:20230918T183000
DTEND;TZID=Europe/Rome:20230918T200000
DTSTAMP:20260420T173207Z
UID:422e2ee2cd8a4750b034655c819c8854@www.comune.parma.it
CATEGORIES:Home page,cento,settembre
CREATED:20230830T081935Z
DESCRIPTION:100 - La Giunta nei quartieri
LAST-MODIFIED:20230830T083331Z
URL:https://www.comune.parma.it/api/it/vivere-parma/eventi/lassessore-lava
 getto-ai-quartieri-molinetto-san-pancrazio
END:VEVENT
BEGIN:VTIMEZONE
TZID:Europe/Rome
X-LIC-LOCATION:Europe/Rome
BEGIN:DAYLIGHT
DTSTART:20230326T030000
TZNAME:CEST
TZOFFSETFROM:+0100
TZOFFSETTO:+0200
END:DAYLIGHT
END:VTIMEZONE
END:VCALENDAR
