BEGIN:VCALENDAR
VERSION:2.0
PRODID:-//Plone.org//NONSGML plone.app.event//EN
X-WR-TIMEZONE:Europe/Rome
BEGIN:VEVENT
SUMMARY:L’Assessore Lavagetto al Quartiere Lubiana-San Lazzaro
DTSTART;TZID=Europe/Rome:20230713T183000
DTEND;TZID=Europe/Rome:20230713T200000
DTSTAMP:20260420T181830Z
UID:59f2dcf20dcc43a595ec0f0ac03a5d17@www.comune.parma.it
CATEGORIES:Home page,cento,luglio
CREATED:20230628T132034Z
DESCRIPTION:100 - La Giunta nei quartieri
LAST-MODIFIED:20230718T084945Z
URL:https://www.comune.parma.it/api/it/vivere-parma/eventi/lassessore-lava
 getto-al-quartieri-lubiana-san-lazzaro/2023-07-13
END:VEVENT
BEGIN:VTIMEZONE
TZID:Europe/Rome
X-LIC-LOCATION:Europe/Rome
BEGIN:DAYLIGHT
DTSTART:20230326T030000
TZNAME:CEST
TZOFFSETFROM:+0100
TZOFFSETTO:+0200
END:DAYLIGHT
END:VTIMEZONE
END:VCALENDAR
