BEGIN:VCALENDAR
VERSION:2.0
PRODID:-//Plone.org//NONSGML plone.app.event//EN
X-WR-TIMEZONE:Europe/Rome
BEGIN:VEVENT
SUMMARY:Fondazione Toscanini: Musica per tutte e tutti al Parco della Musi
 ca
DTSTART;TZID=Europe/Rome:20250511T100000
DTEND;TZID=Europe/Rome:20250511T210000
DTSTAMP:20260419T213133Z
UID:6348b898d92940ad896c11ac148194a1@www.comune.parma.it
CATEGORIES:Home page,patto sociale
CREATED:20250507T125044Z
DESCRIPTION:n programma concerti interattivi\, info point e momenti di par
 tecipazione pensati per bambine\, bambini\, famiglie\, giovani e realtà a
 ssociative\, in collaborazione con l’Associazione ITACA\, che celebra i 
 suoi dieci anni di attività a Parma.
LAST-MODIFIED:20250507T125052Z
URL:https://www.comune.parma.it/api/it/vivere-parma/eventi/le-giornate-del
 -patto-sociale/fondazione-toscanini-musica-per-tutte-e-tutti-al-parco-dell
 a-musica/2025-05-11
END:VEVENT
BEGIN:VTIMEZONE
TZID:Europe/Rome
X-LIC-LOCATION:Europe/Rome
BEGIN:DAYLIGHT
DTSTART:20250330T030000
TZNAME:CEST
TZOFFSETFROM:+0100
TZOFFSETTO:+0200
END:DAYLIGHT
END:VTIMEZONE
END:VCALENDAR
