BEGIN:VCALENDAR
VERSION:2.0
PRODID:-//Plone.org//NONSGML plone.app.event//EN
X-WR-TIMEZONE:Europe/Rome
BEGIN:VEVENT
SUMMARY:Le giornate del Patto Sociale
DTSTART;TZID=Europe/Rome:20250509T090000
DTEND;TZID=Europe/Rome:20250511T210000
DTSTAMP:20260419T155343Z
UID:91b11618d44a44d98c7d2de5bff1e08b@www.comune.parma.it
CATEGORIES:Home page,patto sociale
CREATED:20250505T143110Z
DESCRIPTION:Dal 9 all’11 maggio tante iniziative per fare il punto sui t
 raguardi raggiunti dal Patto Sociale per Parma e confrontarsi sulle prospe
 ttive future.
LAST-MODIFIED:20250507T125046Z
URL:https://www.comune.parma.it/api/it/vivere-parma/eventi/le-giornate-del
 -patto-sociale
END:VEVENT
BEGIN:VTIMEZONE
TZID:Europe/Rome
X-LIC-LOCATION:Europe/Rome
BEGIN:DAYLIGHT
DTSTART:20250330T030000
TZNAME:CEST
TZOFFSETFROM:+0100
TZOFFSETTO:+0200
END:DAYLIGHT
END:VTIMEZONE
END:VCALENDAR
