BEGIN:VCALENDAR
VERSION:2.0
PRODID:-//Plone.org//NONSGML plone.app.event//EN
X-WR-TIMEZONE:Europe/Rome
BEGIN:VEVENT
SUMMARY:Passeggiate di quartiere tra cura e cultura
DTSTART;TZID=Europe/Rome:20250509T180000
DTEND;TZID=Europe/Rome:20250509T190000
DTSTAMP:20260419T144302Z
UID:71fa1a98dc964c81b8b105203b21d785@www.comune.parma.it
CATEGORIES:Home page,patto sociale
CREATED:20250505T144447Z
DESCRIPTION:Nell’ambito delle Giornate del Patto Sociale\, le passeggiat
 e di quartiere promosse da CSV Emilia e Comune di Parma – Ufficio Cultur
 a valorizzano cultura\, volontariato e relazioni di comunità per il benes
 sere collettivo.
LAST-MODIFIED:20250505T181558Z
URL:https://www.comune.parma.it/api/it/vivere-parma/eventi/le-giornate-del
 -patto-sociale/passeggiate-di-quartiere-tra-cura-e-cultura
END:VEVENT
BEGIN:VTIMEZONE
TZID:Europe/Rome
X-LIC-LOCATION:Europe/Rome
BEGIN:DAYLIGHT
DTSTART:20250330T030000
TZNAME:CEST
TZOFFSETFROM:+0100
TZOFFSETTO:+0200
END:DAYLIGHT
END:VTIMEZONE
END:VCALENDAR
