BEGIN:VCALENDAR
VERSION:2.0
PRODID:-//Plone.org//NONSGML plone.app.event//EN
X-WR-TIMEZONE:Europe/Rome
BEGIN:VEVENT
SUMMARY:Le ribelli
DTSTART;TZID=Europe/Rome:20240719T210000
DTEND;TZID=Europe/Rome:20240719T230000
DTSTAMP:20260422T143815Z
UID:f3900be4b4b44e52a12d4816bb181bf4@www.comune.parma.it
CATEGORIES:Home page
CREATED:20240718T090437Z
DESCRIPTION:Otto scienziate che hanno cambiato il mondo. Presentazione del
  libro di Simone Petralia\, edito da Scienza Express.
LAST-MODIFIED:20240718T090906Z
URL:https://www.comune.parma.it/api/it/vivere-parma/eventi/le-ribelli
END:VEVENT
BEGIN:VTIMEZONE
TZID:Europe/Rome
X-LIC-LOCATION:Europe/Rome
BEGIN:DAYLIGHT
DTSTART:20240331T030000
TZNAME:CEST
TZOFFSETFROM:+0100
TZOFFSETTO:+0200
END:DAYLIGHT
END:VTIMEZONE
END:VCALENDAR
