BEGIN:VCALENDAR
VERSION:2.0
PRODID:-//Plone.org//NONSGML plone.app.event//EN
X-WR-TIMEZONE:Europe/Rome
BEGIN:VEVENT
SUMMARY:L’Étape Parma by Tour de France
DTSTART;TZID=Europe/Rome:20250503T080000
DTEND;TZID=Europe/Rome:20250504T200000
DTSTAMP:20260422T141707Z
UID:885e12376fcd4049b9638d153d266aee@www.comune.parma.it
CATEGORIES:Home page
CREATED:20250430T131922Z
DESCRIPTION:Il 3 e 4 maggio torna la Granfondo ufficiale del Tour de Franc
 e
LAST-MODIFIED:20250430T131930Z
URL:https://www.comune.parma.it/api/it/vivere-parma/eventi/letape-parma-by
 -tour-de-france/2025-05-03
END:VEVENT
BEGIN:VTIMEZONE
TZID:Europe/Rome
X-LIC-LOCATION:Europe/Rome
BEGIN:DAYLIGHT
DTSTART:20250330T030000
TZNAME:CEST
TZOFFSETFROM:+0100
TZOFFSETTO:+0200
END:DAYLIGHT
END:VTIMEZONE
END:VCALENDAR
