BEGIN:VCALENDAR
VERSION:2.0
PRODID:-//Plone.org//NONSGML plone.app.event//EN
X-WR-TIMEZONE:Europe/Rome
BEGIN:VEVENT
SUMMARY:Luci d'Estate
DTSTART;TZID=Europe/Rome:20250711T190000
DTEND;TZID=Europe/Rome:20250712T000000
DTSTAMP:20260422T155748Z
UID:4526e75a498f4f86a55bfb911fc7eb3f@www.comune.parma.it
CATEGORIES:Home page
CREATED:20250702T160058Z
DESCRIPTION:L'11 e il 12 luglio appuntamento a Vicofertile per due serate 
 in cui le risate e le performance artistiche si alterneranno a momenti di 
 riflessione su temi sociali e attuali
LAST-MODIFIED:20250703T124024Z
URL:https://www.comune.parma.it/api/it/vivere-parma/eventi/luci-destate/20
 25-07-11
END:VEVENT
BEGIN:VTIMEZONE
TZID:Europe/Rome
X-LIC-LOCATION:Europe/Rome
BEGIN:DAYLIGHT
DTSTART:20250330T030000
TZNAME:CEST
TZOFFSETFROM:+0100
TZOFFSETTO:+0200
END:DAYLIGHT
END:VTIMEZONE
END:VCALENDAR
