BEGIN:VCALENDAR
VERSION:2.0
PRODID:-//Plone.org//NONSGML plone.app.event//EN
X-WR-TIMEZONE:Europe/Rome
BEGIN:VEVENT
SUMMARY:Marguerite e Violetta: da Dumas a Verdi. Una storia contemporanea
DTSTART;TZID=Europe/Rome:20240525T180000
DTEND;TZID=Europe/Rome:20240525T200000
DTSTAMP:20260422T164853Z
UID:7b401f1b5a17437a8cb95b924120a8e7@www.comune.parma.it
CATEGORIES:Home page
CREATED:20240522T104010Z
DESCRIPTION:Treccani festeggia a Parma il progetto “Ti leggo. L’invenz
 ione del vero. La Traviata: dal romanzo di Dumas all’opera di Verdi” c
 on una conferenza-dibattito.
LAST-MODIFIED:20240522T104058Z
URL:https://www.comune.parma.it/api/it/vivere-parma/eventi/marguerite-e-vi
 oletta-da-dumas-a-verdi-una-storia-contemporanea/2024-05-25
END:VEVENT
BEGIN:VTIMEZONE
TZID:Europe/Rome
X-LIC-LOCATION:Europe/Rome
BEGIN:DAYLIGHT
DTSTART:20240331T030000
TZNAME:CEST
TZOFFSETFROM:+0100
TZOFFSETTO:+0200
END:DAYLIGHT
END:VTIMEZONE
END:VCALENDAR
