BEGIN:VCALENDAR
VERSION:2.0
PRODID:-//Plone.org//NONSGML plone.app.event//EN
X-WR-TIMEZONE:Europe/Rome
BEGIN:VEVENT
SUMMARY:Memoria sotto attacco
DTSTART;TZID=Europe/Rome:20250416T153000
DTEND;TZID=Europe/Rome:20250416T180000
DTSTAMP:20260419T145949Z
UID:2fd0504e20674702822102beeca8da7e@www.comune.parma.it
CATEGORIES:Home page
CREATED:20250411T062532Z
DESCRIPTION:Come gli Archivi di Parma hanno superato la Seconda Guerra Mon
 diale.
LAST-MODIFIED:20250411T063018Z
URL:https://www.comune.parma.it/api/it/vivere-parma/eventi/memoria-sotto-a
 ttacco/2025-04-16
END:VEVENT
BEGIN:VTIMEZONE
TZID:Europe/Rome
X-LIC-LOCATION:Europe/Rome
BEGIN:DAYLIGHT
DTSTART:20250330T030000
TZNAME:CEST
TZOFFSETFROM:+0100
TZOFFSETTO:+0200
END:DAYLIGHT
END:VTIMEZONE
END:VCALENDAR
