BEGIN:VCALENDAR
VERSION:2.0
PRODID:-//Plone.org//NONSGML plone.app.event//EN
X-WR-TIMEZONE:Europe/Rome
BEGIN:VEVENT
SUMMARY:Mostra "Radici e orizzonti"
DTSTART;TZID=Europe/Rome:20260419T123000
DTEND;TZID=Europe/Rome:20260517T160000
DTSTAMP:20260419T214907Z
UID:887505f9779640858607aa1915adabc5@www.comune.parma.it
CATEGORIES:Home page
CREATED:20260417T140720Z
DESCRIPTION:La mostra di Valentina De Giorgi\, sarà ospitata da Spazio 3 
 in via Borghesi dal 19 aprile al 17 maggio.
LAST-MODIFIED:20260417T140925Z
URL:https://www.comune.parma.it/api/it/vivere-parma/eventi/mostra-radici-e
 -orizzonti
END:VEVENT
BEGIN:VTIMEZONE
TZID:Europe/Rome
X-LIC-LOCATION:Europe/Rome
BEGIN:DAYLIGHT
DTSTART:20260329T030000
TZNAME:CEST
TZOFFSETFROM:+0100
TZOFFSETTO:+0200
END:DAYLIGHT
END:VTIMEZONE
END:VCALENDAR
