BEGIN:VCALENDAR
VERSION:2.0
PRODID:-//Plone.org//NONSGML plone.app.event//EN
X-WR-TIMEZONE:Europe/Rome
BEGIN:VEVENT
SUMMARY:Nightmare - Dal profondo della notte di Wes Craven
DTSTART;TZID=Europe/Rome:20240814T210000
DTEND;TZID=Europe/Rome:20240814T230000
DTSTAMP:20260419T232312Z
UID:8720041ebfd545cab283bccc28902206@www.comune.parma.it
CATEGORIES:Home page
CREATED:20240729T080009Z
DESCRIPTION:Proiezione nell'ambito della rassegna "I Giardini della Paura"
 .
LAST-MODIFIED:20240729T080714Z
URL:https://www.comune.parma.it/api/it/vivere-parma/eventi/nightmare/2024-
 08-14
END:VEVENT
BEGIN:VTIMEZONE
TZID:Europe/Rome
X-LIC-LOCATION:Europe/Rome
BEGIN:DAYLIGHT
DTSTART:20240331T030000
TZNAME:CEST
TZOFFSETFROM:+0100
TZOFFSETTO:+0200
END:DAYLIGHT
END:VTIMEZONE
END:VCALENDAR
