BEGIN:VCALENDAR
VERSION:2.0
PRODID:-//Plone.org//NONSGML plone.app.event//EN
X-WR-TIMEZONE:Europe/Rome
BEGIN:VEVENT
SUMMARY:No\, la musica non muore
DTSTART;TZID=Europe/Rome:20260127T103000
DTEND;TZID=Europe/Rome:20260127T120000
DTSTAMP:20260425T123355Z
UID:0cf08b650efe43e2b457741d3b26f324@www.comune.parma.it
CATEGORIES:Home page
CREATED:20260121T102125Z
DESCRIPTION:Martedì 27 gennaio\, alle ore 10.30\, il Ridotto del Teatro R
 egio ospita un concerto in occasione della Giornata della Memoria
LAST-MODIFIED:20260123T135125Z
URL:https://www.comune.parma.it/api/it/vivere-parma/eventi/no-la-musica-no
 n-muore
END:VEVENT
BEGIN:VTIMEZONE
TZID:Europe/Rome
X-LIC-LOCATION:Europe/Rome
BEGIN:STANDARD
DTSTART:20251026T020000
TZNAME:CET
TZOFFSETFROM:+0200
TZOFFSETTO:+0100
END:STANDARD
END:VTIMEZONE
END:VCALENDAR
