BEGIN:VCALENDAR
VERSION:2.0
PRODID:-//Plone.org//NONSGML plone.app.event//EN
X-WR-TIMEZONE:Europe/Rome
BEGIN:VEVENT
SUMMARY:Note in Rosa
DTSTART;TZID=Europe/Rome:20240904T210000
DTEND;TZID=Europe/Rome:20240904T230000
DTSTAMP:20260419T231730Z
UID:231f2f8bd46b4d5e81d3471febd63e36@www.comune.parma.it
CATEGORIES:Home page
CREATED:20240902T154104Z
DESCRIPTION:Mercoledì 4 settembre\, alle ore 21\, appuntamento al femmini
 le in collaborazione con l'Associazione Robi Bonardi Mind
LAST-MODIFIED:20240902T154623Z
URL:https://www.comune.parma.it/api/it/vivere-parma/eventi/note-in-rosa
END:VEVENT
BEGIN:VTIMEZONE
TZID:Europe/Rome
X-LIC-LOCATION:Europe/Rome
BEGIN:DAYLIGHT
DTSTART:20240331T030000
TZNAME:CEST
TZOFFSETFROM:+0100
TZOFFSETTO:+0200
END:DAYLIGHT
END:VTIMEZONE
END:VCALENDAR
