BEGIN:VCALENDAR
VERSION:2.0
PRODID:-//Plone.org//NONSGML plone.app.event//EN
X-WR-TIMEZONE:Europe/Rome
BEGIN:VEVENT
SUMMARY:Nuovo Cinema Paradiso
DTSTART;TZID=Europe/Rome:20250529T210000
DTEND;TZID=Europe/Rome:20250626T230000
DTSTAMP:20260419T172409Z
UID:d403c5fb5e2a4b69ae59295751a86b07@www.comune.parma.it
CATEGORIES:Home page
CREATED:20250526T130310Z
DESCRIPTION:Fino al 26 giugno in Piazzale San Lorenzo ogni giovedì\, con 
 ingresso gratuito\, appuntamento con il cinema estivo all’aperto. 
LAST-MODIFIED:20250616T083359Z
URL:https://www.comune.parma.it/api/it/vivere-parma/eventi/nuovo-cinema-pa
 radiso
END:VEVENT
BEGIN:VTIMEZONE
TZID:Europe/Rome
X-LIC-LOCATION:Europe/Rome
BEGIN:DAYLIGHT
DTSTART:20250330T030000
TZNAME:CEST
TZOFFSETFROM:+0100
TZOFFSETTO:+0200
END:DAYLIGHT
END:VTIMEZONE
END:VCALENDAR
