BEGIN:VCALENDAR
VERSION:2.0
PRODID:-//Plone.org//NONSGML plone.app.event//EN
X-WR-TIMEZONE:Europe/Rome
BEGIN:VEVENT
SUMMARY:Open days del Comune di Parma
DTSTART;VALUE=DATE:20241207
DTEND;VALUE=DATE:20241210
DTSTAMP:20260420T065041Z
UID:a22635ad48c147dd9ec0dc51eac5e219@www.comune.parma.it
CATEGORIES:Home page,clone - tutela animali
CREATED:20241121T150133Z
DESCRIPTION:Dal 7 al 9 dicembre\, 3 giornate dedicate a conoscere da vicin
 o il Comune di Parma
LAST-MODIFIED:20250918T100028Z
URL:https://www.comune.parma.it/api/it/vivere-parma/eventi/open-days-del-c
 omune-di-parma
END:VEVENT
END:VCALENDAR
