BEGIN:VCALENDAR
VERSION:2.0
PRODID:-//Plone.org//NONSGML plone.app.event//EN
X-WR-TIMEZONE:Europe/Rome
BEGIN:VEVENT
SUMMARY:Paganini Guitar Festival  2025 - Elogio de la danza
DTSTART;TZID=Europe/Rome:20250527T100000
DTEND;TZID=Europe/Rome:20250601T200000
DTSTAMP:20260420T090423Z
UID:ca1620936533424c941ed5533a763b42@www.comune.parma.it
CATEGORIES:Home page
CREATED:20250509T083631Z
DESCRIPTION:La XXV Edizione della rassegna dedicata alle sei corde e alla 
 figura di Niccolò Paganini\, animerà vari luoghi della città dal 27 mag
 gio al 1 giugno. 
LAST-MODIFIED:20250509T095345Z
URL:https://www.comune.parma.it/api/it/vivere-parma/eventi/paganini-guitar
 -festival-2025-elogio-de-la-danza
END:VEVENT
BEGIN:VTIMEZONE
TZID:Europe/Rome
X-LIC-LOCATION:Europe/Rome
BEGIN:DAYLIGHT
DTSTART:20250330T030000
TZNAME:CEST
TZOFFSETFROM:+0100
TZOFFSETTO:+0200
END:DAYLIGHT
END:VTIMEZONE
END:VCALENDAR
