BEGIN:VCALENDAR
VERSION:2.0
PRODID:-//Plone.org//NONSGML plone.app.event//EN
X-WR-TIMEZONE:Europe/Rome
BEGIN:VEVENT
SUMMARY:Parma che cambia Tour - Terza tappa
DTSTART;TZID=Europe/Rome:20251107T160000
DTEND;TZID=Europe/Rome:20251107T183000
DTSTAMP:20260421T135319Z
UID:0bb082b61b5d4efaa7eb0b9eeb316b2f@www.comune.parma.it
CATEGORIES:Home page
CREATED:20251104T111434Z
DESCRIPTION:Presentazione degli interventi di riqualificazione del Parco N
 ord nel Quartiere San Leonardo
LAST-MODIFIED:20251105T102653Z
URL:https://www.comune.parma.it/api/it/vivere-parma/eventi/parma-che-cambi
 a-tour-terza-tappa/2025-11-07
END:VEVENT
BEGIN:VTIMEZONE
TZID:Europe/Rome
X-LIC-LOCATION:Europe/Rome
BEGIN:STANDARD
DTSTART:20251026T020000
TZNAME:CET
TZOFFSETFROM:+0200
TZOFFSETTO:+0100
END:STANDARD
END:VTIMEZONE
END:VCALENDAR
