BEGIN:VCALENDAR
VERSION:2.0
PRODID:-//Plone.org//NONSGML plone.app.event//EN
X-WR-TIMEZONE:Europe/Rome
BEGIN:VEVENT
SUMMARY:Parma Film Festival 2024 - Invenzioni dal vero
DTSTART;VALUE=DATE:20241109
DTEND;VALUE=DATE:20241110
DTSTAMP:20260419T231201Z
UID:5a8b2db0584845fa93791978b55bd63c@www.comune.parma.it
CATEGORIES:Home page
CREATED:20241111T111016Z
DESCRIPTION:XXVII° edizione della rassegna Parma Film Festival. In progra
 mma proiezioni\, anteprime\, masterclass\, workshop\, mostre e incontri pe
 r cinefili e appassionati. 
LAST-MODIFIED:20241111T112828Z
URL:https://www.comune.parma.it/api/it/vivere-parma/eventi/parma-film-fest
 ival-2024-invenzioni-dal-vero/2024-11-09
END:VEVENT
END:VCALENDAR
