BEGIN:VCALENDAR
VERSION:2.0
PRODID:-//Plone.org//NONSGML plone.app.event//EN
X-WR-TIMEZONE:Europe/Rome
BEGIN:VEVENT
SUMMARY:Parma Liberata
DTSTART;TZID=Europe/Rome:20250416T100000
DTEND;TZID=Europe/Rome:20250629T190000
DTSTAMP:20260422T143758Z
UID:5ce81a514b9f428dbcbdc49bfa52482f@www.comune.parma.it
CREATED:20250418T080150Z
DESCRIPTION:A Palazzo del Governatore\, in occasione dell'ottantesimo anni
 versario della Liberazione\, una mostra dedicata agli eventi immediatament
 e successivi alla primavera del 1945: dai mesi difficili del dopoguerra fi
 no alle prime elezioni libere del 1946.
LAST-MODIFIED:20250626T170302Z
URL:https://www.comune.parma.it/api/it/vivere-parma/eventi/parma-liberata
END:VEVENT
BEGIN:VTIMEZONE
TZID:Europe/Rome
X-LIC-LOCATION:Europe/Rome
BEGIN:DAYLIGHT
DTSTART:20250330T030000
TZNAME:CEST
TZOFFSETFROM:+0100
TZOFFSETTO:+0200
END:DAYLIGHT
END:VTIMEZONE
END:VCALENDAR
