BEGIN:VCALENDAR
VERSION:2.0
PRODID:-//Plone.org//NONSGML plone.app.event//EN
X-WR-TIMEZONE:Europe/Rome
BEGIN:VEVENT
SUMMARY:Parma si illumina di viola per la Giornata Internazionale dell'Epi
 lessia
DTSTART;TZID=Europe/Rome:20260209T100000
DTEND;TZID=Europe/Rome:20260209T110000
DTSTAMP:20260421T193457Z
UID:2a8230f7db71436ca476639a51d0f629@www.comune.parma.it
CATEGORIES:Home page
CREATED:20260209T092123Z
DESCRIPTION:Il 9 febbraio ricorre la Giornata Internazionale dell'Epilessi
 a.
LAST-MODIFIED:20260209T092220Z
URL:https://www.comune.parma.it/api/it/vivere-parma/eventi/parma-si-illumi
 na-di-viola-per-la-giornata-internazionale-dellepilessia/2026-02-09
END:VEVENT
BEGIN:VTIMEZONE
TZID:Europe/Rome
X-LIC-LOCATION:Europe/Rome
BEGIN:STANDARD
DTSTART:20251026T020000
TZNAME:CET
TZOFFSETFROM:+0200
TZOFFSETTO:+0100
END:STANDARD
END:VTIMEZONE
END:VCALENDAR
