BEGIN:VCALENDAR
VERSION:2.0
PRODID:-//Plone.org//NONSGML plone.app.event//EN
X-WR-TIMEZONE:Europe/Rome
BEGIN:VEVENT
SUMMARY:Pensare la vita. Il potere e la ribellione
DTSTART;TZID=Europe/Rome:20251006T180000
DTEND;TZID=Europe/Rome:20251203T210000
DTSTAMP:20260422T142046Z
UID:fc3cf7750d084c5696fd1efd253ba683@www.comune.parma.it
CREATED:20251001T093516Z
DESCRIPTION:Torna a Palazzo del Governatore la rassegna di incontri filoso
 fici che\, dal 6 ottobre al 3 dicembre\, propone otto appuntamenti gratuit
 i dedicati alle nuove forme del potere politico e della ribellione
LAST-MODIFIED:20251001T111201Z
URL:https://www.comune.parma.it/api/it/vivere-parma/eventi/pensare-la-vita
 -il-potere-e-la-ribellione/2025-10-06
END:VEVENT
BEGIN:VTIMEZONE
TZID:Europe/Rome
X-LIC-LOCATION:Europe/Rome
BEGIN:DAYLIGHT
DTSTART:20250330T030000
TZNAME:CEST
TZOFFSETFROM:+0100
TZOFFSETTO:+0200
END:DAYLIGHT
BEGIN:STANDARD
DTSTART:20251026T020000
TZNAME:CET
TZOFFSETFROM:+0200
TZOFFSETTO:+0100
END:STANDARD
END:VTIMEZONE
END:VCALENDAR
