BEGIN:VCALENDAR
VERSION:2.0
PRODID:-//Plone.org//NONSGML plone.app.event//EN
X-WR-TIMEZONE:Europe/Rome
BEGIN:VEVENT
SUMMARY:Pianse ed amò per tutti
DTSTART;TZID=Europe/Rome:20241220T203000
DTEND;TZID=Europe/Rome:20241220T220000
DTSTAMP:20260421T140541Z
UID:60e2b21be60d45f08462b62446b6cc6e@www.comune.parma.it
CATEGORIES:Home page,Newsletter
CREATED:20241212T134951Z
DESCRIPTION:Venerdì 20 dicembre 2024\, ore 20.30\, al teatro Regio\, reci
 tal lirico benefico in favore dell’Ospedale dei bambini di Parma “Piet
 ro Barilla”
LAST-MODIFIED:20250107T103052Z
URL:https://www.comune.parma.it/api/it/vivere-parma/eventi/pianse-ed-amo-p
 er-tutti/2024-12-20
END:VEVENT
BEGIN:VTIMEZONE
TZID:Europe/Rome
X-LIC-LOCATION:Europe/Rome
BEGIN:STANDARD
DTSTART:20241027T020000
TZNAME:CET
TZOFFSETFROM:+0200
TZOFFSETTO:+0100
END:STANDARD
END:VTIMEZONE
END:VCALENDAR
