BEGIN:VCALENDAR
VERSION:2.0
PRODID:-//Plone.org//NONSGML plone.app.event//EN
X-WR-TIMEZONE:Europe/Rome
BEGIN:VEVENT
SUMMARY:Pietas: il dolore che ci riguarda
DTSTART;TZID=Europe/Rome:20260127T140000
DTEND;TZID=Europe/Rome:20260208T200000
DTSTAMP:20260420T105222Z
UID:7c1cbdf15f324d2f8d84371e883f7624@www.comune.parma.it
CREATED:20260121T162936Z
DESCRIPTION:Fino all'8 febbraio la Galleria San Ludovico ospita la mostra 
 degli studenti del Liceo Artistico Toschi: pittura e scultura per riflette
 re su memoria\, guerra e violenza. Inaugurazione il 27 gennaio alle 14.30\
 , in occasione della Giornata della Memoria.
LAST-MODIFIED:20260128T143632Z
URL:https://www.comune.parma.it/api/it/vivere-parma/eventi/pietas-il-dolor
 e-che-ci-riguarda/2026-01-27
END:VEVENT
BEGIN:VTIMEZONE
TZID:Europe/Rome
X-LIC-LOCATION:Europe/Rome
BEGIN:STANDARD
DTSTART:20251026T020000
TZNAME:CET
TZOFFSETFROM:+0200
TZOFFSETTO:+0100
END:STANDARD
END:VTIMEZONE
END:VCALENDAR
