BEGIN:VCALENDAR
VERSION:2.0
PRODID:-//Plone.org//NONSGML plone.app.event//EN
X-WR-TIMEZONE:Europe/Rome
BEGIN:VEVENT
SUMMARY:Presentazione del libro C’era la luna con Serena Dandini
DTSTART;TZID=Europe/Rome:20250301T183000
DTEND;TZID=Europe/Rome:20250301T200000
DTSTAMP:20260421T133739Z
UID:f75aa56c0d044333b50489b77885fa97@www.comune.parma.it
CATEGORIES:Home page
CREATED:20250220T111813Z
DESCRIPTION:L’autrice presenterà il suo ultimo libro “C’era la luna
 ”\, romanzo di formazione su un’adolescente negli anni Sessanta tra so
 gni\, proteste e risvegli. 
LAST-MODIFIED:20250220T111820Z
URL:https://www.comune.parma.it/api/it/vivere-parma/eventi/presentazione-d
 el-libro-cera-la-luna-con-serena-dandini
END:VEVENT
BEGIN:VTIMEZONE
TZID:Europe/Rome
X-LIC-LOCATION:Europe/Rome
BEGIN:STANDARD
DTSTART:20241027T020000
TZNAME:CET
TZOFFSETFROM:+0200
TZOFFSETTO:+0100
END:STANDARD
END:VTIMEZONE
END:VCALENDAR
