BEGIN:VCALENDAR
VERSION:2.0
PRODID:-//Plone.org//NONSGML plone.app.event//EN
X-WR-TIMEZONE:Europe/Rome
BEGIN:VEVENT
SUMMARY:Presentazione del libro “C'era una volta il corpo”
DTSTART;TZID=Europe/Rome:20241212T180000
DTEND;TZID=Europe/Rome:20241212T193000
DTSTAMP:20260419T215730Z
UID:322f9a0f441647aaae2dce84eccb0667@www.comune.parma.it
CATEGORIES:Home page
CREATED:20241209T143906Z
DESCRIPTION:Incontro con l’autore\, Walter Siti\, all’Oratorio Novo de
 lla Biblioteca Civica
LAST-MODIFIED:20241209T144025Z
URL:https://www.comune.parma.it/api/it/vivere-parma/eventi/presentazione-d
 el-libro-cera-una-volta-il-corpo
END:VEVENT
BEGIN:VTIMEZONE
TZID:Europe/Rome
X-LIC-LOCATION:Europe/Rome
BEGIN:STANDARD
DTSTART:20241027T020000
TZNAME:CET
TZOFFSETFROM:+0200
TZOFFSETTO:+0100
END:STANDARD
END:VTIMEZONE
END:VCALENDAR
